BEGIN:VCALENDAR
VERSION:2.0
PRODID:-//Hazel - Events - ECPv6.2.0.1//NONSGML v1.0//EN
CALSCALE:GREGORIAN
X-WR-CALNAME:Hazel - Events
X-ORIGINAL-URL:https://hazelwolfk8.seattleschools.org/events/middle-school
 -dance-2/ics/
X-WR-CALDESC:Hazel - Events
REFRESH-INTERVAL;VALUE=DURATION:PT1D
X-Robots-Tag:noindex
X-PUBLISHED-TTL:PT1D
BEGIN:VTIMEZONE
TZID:America/Vancouver
BEGIN:DAYLIGHT
TZOFFSETFROM:-0800
TZOFFSETTO:-0700
TZNAME:PDT
DTSTART:20260308T100000
END:DAYLIGHT
BEGIN:STANDARD
TZOFFSETFROM:-0700
TZOFFSETTO:-0800
TZNAME:PST
DTSTART:20261101T090000
END:STANDARD
END:VTIMEZONE
BEGIN:VEVENT
DTSTART;TZID=America/Vancouver:20260529T180000
DTEND;TZID=America/Vancouver:20260529T200000
DTSTAMP:20260420T202727Z
CREATED:20250924T105020Z
LAST-MODIFIED:20250924T105023Z
UID:https://hazelwolfk8.seattleschools.org/events/middle-school-dance-2/
SUMMARY:MS Dance
DESCRIPTION:Middle School Dance
URL:https://hazelwolfk8.seattleschools.org/events/middle-school-dance-2/
END:VEVENT
END:VCALENDAR