BEGIN:VCALENDAR
VERSION:2.0
PRODID:-//Hazel - Spirit Day! See description - ECPv6.2.0.1//NONSGML v1.0/
 /EN
CALSCALE:GREGORIAN
X-WR-CALNAME:Hazel - Spirit Day! See description
X-ORIGINAL-URL:https://hazelwolfk8.seattleschools.org/events/spirit-day-se
 e-description/ics/
X-WR-CALDESC:Hazel - Spirit Day! See description
REFRESH-INTERVAL;VALUE=DURATION:PT1D
X-Robots-Tag:noindex
X-PUBLISHED-TTL:PT1D
BEGIN:VTIMEZONE
TZID:America/Vancouver
BEGIN:DAYLIGHT
TZOFFSETFROM:-0800
TZOFFSETTO:-0700
TZNAME:PDT
DTSTART:20260308T100000
END:DAYLIGHT
BEGIN:STANDARD
TZOFFSETFROM:-0700
TZOFFSETTO:-0800
TZNAME:PST
DTSTART:20261101T090000
END:STANDARD
END:VTIMEZONE
BEGIN:VEVENT
DTSTART;VALUE=DATE:20251121
DTEND;VALUE=DATE:20251122
DTSTAMP:20260424T034213Z
CREATED:20260212T122602Z
LAST-MODIFIED:20260212T122602Z
UID:https://hazelwolfk8.seattleschools.org/events/spirit-day-see-descripti
 on/spirit-day-see-description/
SUMMARY:Spirit Day
DESCRIPTION:Spirit Day! See description
URL:https://hazelwolfk8.seattleschools.org/events/spirit-day-see-descripti
 on/spirit-day-see-description/
END:VEVENT
END:VCALENDAR